BEGIN:VCALENDAR
VERSION:2.0
PRODID:-//ChamberMaster//Event Calendar 2.0//EN
METHOD:PUBLISH
X-PUBLISHED-TTL:P3D
REFRESH-INTERVAL:P3D
CALSCALE:GREGORIAN
BEGIN:VEVENT
DTSTART;VALUE=DATE:20081212
DTEND;VALUE=DATE:20081213
TRANSP:TRANSPARENT
X-MICROSOFT-CDO-ALLDAYEVENT:TRUE
SUMMARY:Free Chicken Biscuit Friday ! !
DESCRIPTION:Stop by and pick up your FREE Chicken biscuit  !
X-ALT-DESC;FMTTYPE=text/html:Stop by and pick up your FREE Chicken biscuit  !
LOCATION:
UID:e.1212.2847
SEQUENCE:3
DTSTAMP:20260425T140741Z
URL:http://business.beaufortchamber.org/events/details/free-chicken-biscuit-friday-12-12-2008-2847
END:VEVENT

END:VCALENDAR
