BEGIN:VCALENDAR
VERSION:2.0
PRODID:-//ChamberMaster//Event Calendar 2.0//EN
METHOD:PUBLISH
X-PUBLISHED-TTL:P3D
REFRESH-INTERVAL:P3D
CALSCALE:GREGORIAN
BEGIN:VEVENT
DTSTART:20130426T160000Z
DTEND:20130426T170000Z
X-MICROSOFT-CDO-ALLDAYEVENT:FALSE
SUMMARY:Free Organ Concert - Parish Church of St. Helena's\, Beaufort
DESCRIPTION:The final concert of the season is Friday\, April 26 at Noon   Alexander Anderson   Chapel Hill\, NC. Please join us!
X-ALT-DESC;FMTTYPE=text/html:<span style="font-size: medium\;"><span style="font-family: arial\,sans-serif\;"><span style="color: black\;">The final concert of the season is Friday\, April 26 at Noon &ndash\; Alexander Anderson &ndash\; Chapel Hill\, NC. Please join us!</span></span></span><br />\n
LOCATION:
UID:e.1212.4967
SEQUENCE:3
DTSTAMP:20260422T051356Z
URL:http://business.beaufortchamber.org/events/details/free-organ-concert-parish-church-of-st-helena-s-beaufort-04-26-2013-4967
END:VEVENT

END:VCALENDAR
