BEGIN:VCALENDAR
VERSION:2.0
PRODID:-//ChamberMaster//Event Calendar 2.0//EN
METHOD:PUBLISH
X-PUBLISHED-TTL:P3D
REFRESH-INTERVAL:P3D
CALSCALE:GREGORIAN
BEGIN:VEVENT
DTSTART;VALUE=DATE:20090228
DTEND;VALUE=DATE:20090301
TRANSP:TRANSPARENT
X-MICROSOFT-CDO-ALLDAYEVENT:TRUE
SUMMARY:Free professional photos with the Easter Bunny
DESCRIPTION:FREE professional photos with the Easter Bunny.  Eat at Chick-fil-A\, visit the Easter Bunny\, enjoy inflatable fun plus lots more !
X-ALT-DESC;FMTTYPE=text/html:FREE professional photos with the Easter Bunny.  Eat at Chick-fil-A\, visit the Easter Bunny\, enjoy inflatable fun plus lots more !
LOCATION:
UID:e.1212.3083
SEQUENCE:3
DTSTAMP:20260425T124355Z
URL:http://business.beaufortchamber.org/events/details/free-professional-photos-with-the-easter-bunny-02-28-2009-3083
END:VEVENT

END:VCALENDAR
