BEGIN:VCALENDAR
VERSION:2.0
PRODID:-//ChamberMaster//Event Calendar 2.0//EN
METHOD:PUBLISH
X-PUBLISHED-TTL:P3D
REFRESH-INTERVAL:P3D
CALSCALE:GREGORIAN
BEGIN:VEVENT
DTSTART:20130228T230000Z
DTEND:20130301T003000Z
X-MICROSOFT-CDO-ALLDAYEVENT:FALSE
SUMMARY:FREE Public Seminar
DESCRIPTION:Are you caring for an ill or aging loved one? You are invited to a FREE Public Seminar on Caregiver Support & Available Resources in the Greater Beaufort Area! Dr. Carl Derrick III\, of the Lowcountry Medical Group\, will discuss caring for a loved one\, coping with stress and knowing your resources.\n\n	RSVP: Call 843-605-3155 or email john.beal@hospicecare.net\n\n	Sponsored by: Hospice Care of South Carolina\; ComForcare Home Care\; Helena House Assisted Living and Alzheimer's Family Services of Greater Beaufort
X-ALT-DESC;FMTTYPE=text/html:<p>\n	Are you caring for an ill or aging loved one? You are invited to a FREE Public Seminar on Caregiver Support &amp\; Available Resources in the Greater Beaufort Area! Dr. Carl Derrick III\, of the Lowcountry Medical Group\, will discuss caring for a loved one\, coping with stress and knowing your resources.</p>\n<p>\n	RSVP: Call 843-605-3155 or email <a href="mailto:john.beal@hospicecare.net">john.beal@hospicecare.net</a></p>\n<p>\n	Sponsored by: Hospice Care of South Carolina\; ComForcare Home Care\; Helena House Assisted Living and Alzheimer&#39\;s Family Services of Greater Beaufort<br />\n	<br />\n	<br />\n	<br />\n	<br />\n	&nbsp\;</p>\n<p>\n	<br />\n	&nbsp\;</p>\n
LOCATION:Lowcountry Medical Building\, Community Room - 300 Midtown Drive\, Beaufort
UID:e.1212.4778
SEQUENCE:3
DTSTAMP:20260422T090022Z
URL:http://business.beaufortchamber.org/events/details/free-public-seminar-02-28-2013-4778
END:VEVENT

END:VCALENDAR
