BEGIN:VCALENDAR
VERSION:2.0
PRODID:-//ChamberMaster//Event Calendar 2.0//EN
METHOD:PUBLISH
X-PUBLISHED-TTL:P3D
REFRESH-INTERVAL:P3D
CALSCALE:GREGORIAN
BEGIN:VEVENT
DTSTART:20120928T160000Z
DTEND:20120928T200000Z
X-MICROSOFT-CDO-ALLDAYEVENT:FALSE
SUMMARY:Friends of the Library Book Sale
DESCRIPTION:Our sale this year is September 28\, 29 & 30 at the Waterfront Park in downtown Beaufort. On Friday the 28th\, there is a members only preview from 10-12. New members can join at the door that day. Hours for Saturday are 10   6 and Friday is 12   4. At 4:00 we encourage non-profits to bring boxes and manpower and they are allowed to take books for free up until 4:30.
X-ALT-DESC;FMTTYPE=text/html:Our sale this year is September 28\, 29 &amp\; 30 at the Waterfront Park in downtown Beaufort. On Friday the 28th\, there is a members only preview from 10-12. New members can join at the door that day. Hours for Saturday are 10 &ndash\; 6 and Friday is 12 &ndash\; 4. At 4:00 we encourage non-profits to bring boxes and manpower and they are allowed to take books for free up until 4:30.
LOCATION:Beaufort Waterfront Park
UID:e.1212.4632
SEQUENCE:3
DTSTAMP:20260422T164543Z
URL:http://business.beaufortchamber.org/events/details/friends-of-the-library-book-sale-09-28-2012-4632
END:VEVENT

END:VCALENDAR
