BEGIN:VCALENDAR
VERSION:2.0
PRODID:-//ChamberMaster//Event Calendar 2.0//EN
METHOD:PUBLISH
X-PUBLISHED-TTL:P3D
REFRESH-INTERVAL:P3D
CALSCALE:GREGORIAN
BEGIN:VEVENT
DTSTART;VALUE=DATE:20130927
DTEND;VALUE=DATE:20130930
TRANSP:TRANSPARENT
X-MICROSOFT-CDO-ALLDAYEVENT:TRUE
SUMMARY:Friends of the Library Booksale
DESCRIPTION:Fall Book Sale Dates Announced by Friends of the Beaufort Library:\n\nBeaufort\, Lobeco\, and St. Helena Library Branches\n\n \n\nContacts: \n\nBetsy Hinderliter\, 912-660-9171\, bthinderliter@yahoo.com\n\nGeni Flowers\, 812-3574\, meflower@uscb.edu\n\n \n\n(BEAUFORT\, SC) The Friends of the Beaufort Library: Beaufort\, Lobeco and St. Helena Branches (FOL) will hold its Annual Fall Book Sale September 27-29\, 2013 at the Henry C. Chambers Waterfront Park in downtown Beaufort. \n\n \n\nThe Friends of the Library member-only preview sale is from 10 am - 12 pm on Friday\, Sept. 27 with the sale opened to the public starting at 12 noon and continuing on Saturday\, Sept. 28 from 10 am   6 pm and Sunday\, Sept. 29 from 12 pm to 4 pm. This book sale is the main fundraiser for the FOL with all proceeds benefitting the Beaufort County Public Library branches in Beaufort\, Lobeco and St. Helena Island. \n\n \n\nThis popular event has been a mainstay on the Beaufort community calendar for more than 30 years. Prior to the book sale\, and at any time\, book donations continue to be encouraged and accepted at all three library branches.\n\n \n\nAbout The Friends of the Beaufort Library: The Friends of the Beaufort Library: Beaufort\, Lobeco and St. Helena Branches (FOL) is a non-profit 501(c) (3) organization founded in 1979.  It is a volunteer organization providing financial support to northern Beaufort County libraries (Beaufort\, Lobeco and St. Helena branches) with services to the community through additional funding of programs and projects that enhance learning\, leisure and life. Events include two annual book sales and the popular and FREE Books Sandwiched In series. To become a member of FOL contact Lee Martin at 843-838-7438 or to volunteer contact Lynn Kittson at 843 379-7040.  \n\n \n\n \n\nBeaufort County Library - Main (843)255-6430\, beaufortcountylibrary.org\n\nFor Learning. For Leisure. For Life.
X-ALT-DESC;FMTTYPE=text/html:<strong><span style="font-size: 16pt\;"><span style="color: rgb(102\, 51\, 0)\;"><span style="font-family: calibri\;">Fall Book Sale Dates Announced by Friends of the Beaufort Library:</span></span></span></strong><br />\n<strong><span style="font-size: 16pt\;"><span style="color: rgb(102\, 51\, 0)\;"><span style="font-family: calibri\;">Beaufort\, Lobeco\, and St. Helena Library Branches</span></span></span></strong><br />\n&nbsp\;<br />\n<strong><span style="font-size: medium\;"><span style="font-family: calibri\;">Contacts: </span></span></strong><br />\n<strong><span style="font-size: medium\;"><span style="font-family: calibri\;">Betsy Hinderliter\, 912-660-9171\, </span></span><a href="mailto:bthinderliter@yahoo.com"><span style="font-size: medium\;"><span style="font-family: calibri\;"><span style="color: rgb(0\, 0\, 255)\;">bthinderliter@yahoo.com</span></span></span></a></strong><br />\n<strong><span style="font-size: medium\;"><span style="font-family: calibri\;">Geni Flowers\, 812-3574\, </span></span><a href="mailto:meflower@uscb.edu"><span style="font-size: medium\;"><span style="font-family: calibri\;"><span style="color: rgb(0\, 0\, 255)\;">meflower@uscb.edu</span></span></span></a></strong><br />\n&nbsp\;<br />\n<span style="font-size: medium\;"><span style="font-family: calibri\;">(BEAUFORT\, SC) The Friends of the Beaufort Library: Beaufort\, Lobeco and St. Helena Branches (FOL) will hold its Annual Fall Book Sale September 27-29\, 2013 at the Henry C. Chambers Waterfront Park in downtown Beaufort. </span></span><br />\n&nbsp\;<br />\n<span style="font-size: medium\;"><span style="font-family: calibri\;">The Friends of the Library member-only preview sale is from 10 am - 12 pm on Friday\, Sept. 27 with the sale opened to the public starting at 12 noon and continuing on Saturday\, Sept. 28 from 10 am &ndash\; 6 pm and Sunday\, Sept. 29 from 12 pm to 4 pm. This book sale is the main fundraiser for the FOL with all proceeds benefitting the Beaufort County Public Library branches in Beaufort\, Lobeco and St. Helena Island. </span></span><br />\n&nbsp\;<br />\n<span style="font-size: medium\;"><span style="font-family: calibri\;">This popular event has been a mainstay on the Beaufort community calendar for more than 30 years. Prior to the book sale\, and at any time\, book donations continue to be encouraged and accepted at all three library branches.</span></span><br />\n&nbsp\;<br />\n<span style="font-size: medium\;"><span style="font-family: calibri\;">About The Friends of the Beaufort Library: The Friends of the Beaufort Library: Beaufort\, Lobeco and St. Helena Branches (FOL) is a non-profit 501(c) (3) organization founded in 1979.&nbsp\; It is a volunteer organization providing financial support to northern Beaufort County libraries (Beaufort\, Lobeco and St. Helena branches) with services to the community through additional funding of programs and projects that enhance learning\, leisure and life. Events include two annual book sales and the popular and FREE Books Sandwiched In series. To become a member of FOL contact Lee Martin at 843-838-7438 or to volunteer contact Lynn Kittson at 843 379-7040.&nbsp\;&nbsp\;</span></span><br />\n&nbsp\;<br />\n&nbsp\;<br />\n<span style="font-size: 12pt\;"><span style="color: rgb(102\, 51\, 0)\;"><span style="font-family: calibri\;">Beaufort County Library - Main (843)255-6430\, beaufortcountylibrary.org</span></span></span><br />\n<strong><span style="font-size: 12pt\;"><span style="color: rgb(0\, 120\, 170)\;"><span style="font-family: calibri\;">For Learning. For Leisure. For Life.</span></span></span></strong><br />\n&nbsp\;<br />\n
LOCATION:Henry Chambers Waterfront Park Beaufort SC
UID:e.1212.5039
SEQUENCE:3
DTSTAMP:20260421T201156Z
URL:http://business.beaufortchamber.org/events/details/friends-of-the-library-booksale-09-27-2013-5039
END:VEVENT

END:VCALENDAR
