BEGIN:VCALENDAR
VERSION:2.0
PRODID:-//ChamberMaster//Event Calendar 2.0//EN
METHOD:PUBLISH
X-PUBLISHED-TTL:P3D
REFRESH-INTERVAL:P3D
CALSCALE:GREGORIAN
BEGIN:VEVENT
DTSTART;VALUE=DATE:20090904
DTEND;VALUE=DATE:20090905
TRANSP:TRANSPARENT
X-MICROSOFT-CDO-ALLDAYEVENT:TRUE
SUMMARY:Fripp Island Kingfish Invitational Tournament
DESCRIPTION:Fee: $250 per boat for up to 4 people.  Each additional person $60\n\nFor rules and application\, please contact:\nLewis Turner\, Director of Marina\, 843-838-1517
X-ALT-DESC;FMTTYPE=text/html:Fee: $250 per boat for up to 4 people.  Each additional person $60\n\nFor rules and application\, please contact:\nLewis Turner\, Director of Marina\, 843-838-1517
LOCATION:
UID:e.1212.2986
SEQUENCE:3
DTSTAMP:20260425T010727Z
URL:http://business.beaufortchamber.org/events/details/fripp-island-kingfish-invitational-tournament-09-04-2009-2986
END:VEVENT

END:VCALENDAR
