BEGIN:VCALENDAR
VERSION:2.0
PRODID:-//ChamberMaster//Event Calendar 2.0//EN
METHOD:PUBLISH
X-PUBLISHED-TTL:P3D
REFRESH-INTERVAL:P3D
CALSCALE:GREGORIAN
BEGIN:VEVENT
DTSTART;VALUE=DATE:20091002
DTEND;VALUE=DATE:20091003
TRANSP:TRANSPARENT
X-MICROSOFT-CDO-ALLDAYEVENT:TRUE
SUMMARY:Fripp Island Racquet Club Fall Clay Court Championship
DESCRIPTION:Multiple men's\, women's\, and mixed divisions.  Fee for Singles: $34   Fee per person for Doubles: $26\n\nFor entry form\, questions or further details please contact: \nDirector of Raquet Club Troy McMullen\, Raquet Club\, 843-838-1504
X-ALT-DESC;FMTTYPE=text/html:Multiple men's\, women's\, and mixed divisions.  Fee for Singles: $34   Fee per person for Doubles: $26\n\nFor entry form\, questions or further details please contact: \nDirector of Raquet Club Troy McMullen\, Raquet Club\, 843-838-1504
LOCATION:
UID:e.1212.2987
SEQUENCE:3
DTSTAMP:20260424T221854Z
URL:http://business.beaufortchamber.org/events/details/fripp-island-racquet-club-fall-clay-court-championship-10-02-2009-2987
END:VEVENT

END:VCALENDAR
