BEGIN:VCALENDAR
VERSION:2.0
PRODID:-//ChamberMaster//Event Calendar 2.0//EN
METHOD:PUBLISH
X-PUBLISHED-TTL:P3D
REFRESH-INTERVAL:P3D
CALSCALE:GREGORIAN
BEGIN:VEVENT
DTSTART;VALUE=DATE:20090227
DTEND;VALUE=DATE:20090228
TRANSP:TRANSPARENT
X-MICROSOFT-CDO-ALLDAYEVENT:TRUE
SUMMARY:Fripp Island Raquet Club Spring Court Championships
DESCRIPTION:Multiple men's\, women's\, and mixed divisions.  Fee for Singles: $34   Fee per person for Doubles: $26\n\nFor entry form\, questions or further details please contact: Director of Raquet Club Troy McMullen\, Raquet Club\, 843-838-1504
X-ALT-DESC;FMTTYPE=text/html:Multiple men's\, women's\, and mixed divisions.  Fee for Singles: $34   Fee per person for Doubles: $26\n\nFor entry form\, questions or further details please contact: Director of Raquet Club Troy McMullen\, Raquet Club\, 843-838-1504
LOCATION:
UID:e.1212.2981
SEQUENCE:3
DTSTAMP:20260425T112913Z
URL:http://business.beaufortchamber.org/events/details/fripp-island-raquet-club-spring-court-championships-02-27-2009-2981
END:VEVENT

END:VCALENDAR
