BEGIN:VCALENDAR
VERSION:2.0
PRODID:-//ChamberMaster//Event Calendar 2.0//EN
METHOD:PUBLISH
X-PUBLISHED-TTL:P3D
REFRESH-INTERVAL:P3D
CALSCALE:GREGORIAN
BEGIN:VEVENT
DTSTART;VALUE=DATE:20100212
DTEND;VALUE=DATE:20100213
TRANSP:TRANSPARENT
X-MICROSOFT-CDO-ALLDAYEVENT:TRUE
SUMMARY:Fripp Island Women's Club - Tea Party
DESCRIPTION:Join us for a "Tea Party" !  \nAttendees will learn all about the Child Abuse Prevention Association\nThis event to benefit CAPA and the club will match all money raised through ticket sales\nCost: $15 - reservations are required
X-ALT-DESC;FMTTYPE=text/html:Join us for a "Tea Party" !  \nAttendees will learn all about the Child Abuse Prevention Association\nThis event to benefit CAPA and the club will match all money raised through ticket sales\nCost: $15 - reservations are required
LOCATION:
UID:e.1212.3778
SEQUENCE:3
DTSTAMP:20260424T173100Z
URL:http://business.beaufortchamber.org/events/details/fripp-island-women-s-club-tea-party-02-12-2010-3778
END:VEVENT

END:VCALENDAR
