BEGIN:VCALENDAR
VERSION:2.0
PRODID:-//ChamberMaster//Event Calendar 2.0//EN
METHOD:PUBLISH
X-PUBLISHED-TTL:P3D
REFRESH-INTERVAL:P3D
CALSCALE:GREGORIAN
BEGIN:VEVENT
DTSTART;VALUE=DATE:20090221
DTEND;VALUE=DATE:20090222
TRANSP:TRANSPARENT
X-MICROSOFT-CDO-ALLDAYEVENT:TRUE
SUMMARY:Gallery Showing - 'The Beauty of Looking Down'
DESCRIPTION:Meet Lowcountry Artist\, Benton Lutz as he presents his" Wimmen and Whimsey" show.  The colorful paintings will be accompanied by a projection of his photographic series.  Lutz is setting loose charming cats\, goofy crows and curvy women who are an appealing combination of Modigliani and Blondie (frau to Dagwood).  Gallery hours are Monday - Friday 11-6 and Saturday 11-3.
X-ALT-DESC;FMTTYPE=text/html:Meet Lowcountry Artist\, Benton Lutz as he presents his" Wimmen and Whimsey" show.  The colorful paintings will be accompanied by a projection of his photographic series.  Lutz is setting loose charming cats\, goofy crows and curvy women who are an appealing combination of Modigliani and Blondie (frau to Dagwood).  Gallery hours are Monday - Friday 11-6 and Saturday 11-3.
LOCATION:
UID:e.1212.2893
SEQUENCE:3
DTSTAMP:20260425T124744Z
URL:http://business.beaufortchamber.org/events/details/gallery-showing-the-beauty-of-looking-down-02-21-2009-2893
END:VEVENT

END:VCALENDAR
