BEGIN:VCALENDAR
VERSION:2.0
PRODID:-//ChamberMaster//Event Calendar 2.0//EN
METHOD:PUBLISH
X-PUBLISHED-TTL:P3D
REFRESH-INTERVAL:P3D
CALSCALE:GREGORIAN
BEGIN:VEVENT
DTSTART:20130718T230000Z
DTEND:20130719T010000Z
X-MICROSOFT-CDO-ALLDAYEVENT:FALSE
SUMMARY:Gate Of Hell: The 1863 Campaign for Charleston SC
DESCRIPTION:On July 18\, 2013\, 7 pm\, at the USC Beaufort's Center for the Arts (formerly the Performing Arts Center) in Beaufort SC\, Doctors Stephen R. Wise and Lawrence Rowland will present\, beginning at 7 pm\, a program on the all important 1863 Campaign for Charleston for which Beaufort and Hilton Head served as the Federal Army and navy's logistical and medical center.\n\n\n\nThe presentation is sponsored by the University of South Carolina Beaufort and the Beaufort County Historical Society.  The event is free and open to the public and is part of the historical society's series commemorating the Sesquicentennial of the Civil War.\n\n\n\nThe attack on Charleston\, which originated from the Beaufort-Port Royal-Hilton Head area\, introduced a new era in the science of engineering and gunnery.  It saw the extensive use of black troops and ironclad vessels as a combined northern army/navy task force tried to sweep the Confederates off Morris Island\, capture Battery Wagner and seize Charleston.
X-ALT-DESC;FMTTYPE=text/html:On July 18\, 2013\, 7 pm\, at the USC Beaufort&#39\;s Center for the Arts (formerly the Performing Arts Center) in Beaufort SC\, Doctors Stephen R. Wise and Lawrence Rowland will present\, beginning at 7 pm\, a program on the all important 1863 Campaign for Charleston for which Beaufort and Hilton Head served as the Federal Army and navy&#39\;s logistical and medical center.<br />\n<br />\nThe presentation is sponsored by the University of South Carolina Beaufort and the Beaufort County Historical Society.&nbsp\; The event is free and open to the public and is part of the historical society&#39\;s series commemorating the Sesquicentennial of the Civil War.<br />\n<br />\nThe attack on Charleston\, which originated from the Beaufort-Port Royal-Hilton Head area\, introduced a new era in the science of engineering and gunnery.&nbsp\; It saw the extensive use of black troops and ironclad vessels as a combined northern army/navy task force tried to sweep the Confederates off Morris Island\, capture Battery Wagner and seize Charleston.
LOCATION:USC Beaufort's Center for the Arts Beaufort SC
UID:e.1212.5038
SEQUENCE:3
DTSTAMP:20260421T232423Z
URL:http://business.beaufortchamber.org/events/details/gate-of-hell-the-1863-campaign-for-charleston-sc-07-18-2013-5038
END:VEVENT

END:VCALENDAR
