BEGIN:VCALENDAR
VERSION:2.0
PRODID:-//ChamberMaster//Event Calendar 2.0//EN
METHOD:PUBLISH
X-PUBLISHED-TTL:P3D
REFRESH-INTERVAL:P3D
CALSCALE:GREGORIAN
BEGIN:VEVENT
DTSTART;VALUE=DATE:20121027
DTEND;VALUE=DATE:20121028
TRANSP:TRANSPARENT
X-MICROSOFT-CDO-ALLDAYEVENT:TRUE
SUMMARY:Gavigan Homes Hosts Pig Roast and Open House at Azalea Square in Beaufort
DESCRIPTION:Gavigan Homes invites area realtors and the local community to its pig roast this Saturday for the re-opening of Azalea Square\, the lowcountry's hottest selling community. On the brink of bankruptcy and disrepair\, Azalea Square has undergone a total transformation in the hands of Gavigan Homes and its associates since its acquisition last year by SA Townhomes\, LLC\, a Connecticut-based investment firm. \n\n \n\nOne of the area's fastest growing home developers in the area\, Gavigan Homes was named one of this year's top ten builders in South Carolina. Billy Gavigan\, President/CEO of Gavigan Homes\, says\, "We continue to take every opportunity to find desirable properties and produce luxurious homes at affordable prices for our community. This is our third redevelopment project in the area." We hope our efforts are increasing property values and creating local jobs." \n\n \n\nThe open house at Azalea Square features 21 move-in ready residences with varying floor plans and high-quality finishes for viewing Saturday at its location on Savannah Highway in Beaufort. The residences will offer 100% financing and payments as low as $499.00. In addition to free food and fun for the whole family\, live entertainment will be provided by country-music recording artist Barry Michaels.\n\n \n\nNow a thriving community\, 100 more new affordable homes are planned at Azalea Square in the future. Mr. Gavigan says\, "The community has given us so much support. We hope our efforts will give back in some measure."
X-ALT-DESC;FMTTYPE=text/html:<span style="font-size: medium"><span style="font-family: times new roman">Gavigan Homes invites area realtors and the local community to its pig roast this Saturday for the re-opening of Azalea Square\, the lowcountry&rsquo\;s hottest selling community. On the brink of bankruptcy and disrepair\, Azalea Square has undergone a total transformation in the hands of Gavigan Homes and its associates since its acquisition last year by SA Townhomes\, LLC\, a Connecticut-based investment firm. </span></span><br />\n&nbsp\;<br />\n<span style="font-size: medium"><span style="font-family: times new roman">One of the area&rsquo\;s fastest growing home developers in the area\, Gavigan Homes was named one of this year&rsquo\;s top ten builders in South Carolina. Billy Gavigan\, President/CEO of Gavigan Homes\, says\, &ldquo\;We continue to take every opportunity to find desirable properties and produce luxurious homes at affordable prices for our community. This is our third redevelopment project in the area.&rdquo\; We hope our efforts are increasing property values and creating local jobs.&rdquo\;&nbsp\;</span></span><br />\n&nbsp\;<br />\n<span style="font-size: medium"><span style="font-family: times new roman">The open house at Azalea Square features 21 move-in ready residences with varying floor plans and high-quality finishes for viewing Saturday at its location on Savannah Highway in Beaufort. The residences will offer 100% financing and payments as low as $499.00. In addition to free food and fun for the whole family\, live entertainment will be provided by country-music recording artist Barry Michaels.</span></span><br />\n&nbsp\;<br />\n<span style="font-size: medium"><span style="font-family: times new roman">Now a thriving community\, 100 more new affordable homes are planned at Azalea Square in the future. Mr. Gavigan says\, &ldquo\;The community has given us so much support. We hope our efforts will give back in some measure.&rdquo\;&nbsp\;</span></span><br />\n
LOCATION:
UID:e.1212.4645
SEQUENCE:3
DTSTAMP:20260422T152831Z
URL:http://business.beaufortchamber.org/events/details/gavigan-homes-hosts-pig-roast-and-open-house-at-azalea-square-in-beaufort-10-27-2012-4645
END:VEVENT

END:VCALENDAR
