BEGIN:VCALENDAR
VERSION:2.0
PRODID:-//ChamberMaster//Event Calendar 2.0//EN
METHOD:PUBLISH
X-PUBLISHED-TTL:P3D
REFRESH-INTERVAL:P3D
CALSCALE:GREGORIAN
BEGIN:VEVENT
DTSTART;VALUE=DATE:20090324
DTEND;VALUE=DATE:20090325
TRANSP:TRANSPARENT
X-MICROSOFT-CDO-ALLDAYEVENT:TRUE
SUMMARY:Getting In Shape For The Summer Season Talk
DESCRIPTION:A spring seminar by Dr. Brendan Smith\, "Plastic Surgeon".  Live botox and fillers demonstration.  Topics will include breast augmentation and body contouring.  All attendees receive free consultation on cosmetic procedure and 15% off physician fee surgical procedure.  Refreshments served.\n\nRSVP by: 3/17/09 to 843-379-2800 OR 705-8940\nLimited seating.
X-ALT-DESC;FMTTYPE=text/html:A spring seminar by Dr. Brendan Smith\, "Plastic Surgeon".  Live botox and fillers demonstration.  Topics will include breast augmentation and body contouring.  All attendees receive free consultation on cosmetic procedure and 15% off physician fee surgical procedure.  Refreshments served.\n\nRSVP by: 3/17/09 to 843-379-2800 OR 705-8940\nLimited seating.
LOCATION:
UID:e.1212.2995
SEQUENCE:3
DTSTAMP:20260425T111406Z
URL:http://business.beaufortchamber.org/events/details/getting-in-shape-for-the-summer-season-talk-03-24-2009-2995
END:VEVENT

END:VCALENDAR
