BEGIN:VCALENDAR
VERSION:2.0
PRODID:-//ChamberMaster//Event Calendar 2.0//EN
METHOD:PUBLISH
X-PUBLISHED-TTL:P3D
REFRESH-INTERVAL:P3D
CALSCALE:GREGORIAN
BEGIN:VEVENT
DTSTART:20111014T223000Z
DTEND:20111101T003000Z
X-MICROSOFT-CDO-ALLDAYEVENT:FALSE
SUMMARY:Ghost Tours
DESCRIPTION:The Exchange Club is presenting the 19th annual Beaufort Ghost Tours!
X-ALT-DESC;FMTTYPE=text/html:<p>\n	The Exchange Club is presenting the 19th annual Beaufort Ghost Tours!&nbsp\;<br />\n	&nbsp\;</p>\n
LOCATION:Carriage Tours leave from the Downtown Marina every 20 minutes between 6:30 and 8:00 p.m. (Parking lot at 1006 Bay Street) Walking Tours begin at 6:50 p.m. and leave every 20 minutes from Cannon Park
UID:e.1212.3901
SEQUENCE:3
DTSTAMP:20260423T110923Z
URL:http://business.beaufortchamber.org/events/details/ghost-tours-10-14-2011-3901
END:VEVENT

END:VCALENDAR
