BEGIN:VCALENDAR
VERSION:2.0
PRODID:-//ChamberMaster//Event Calendar 2.0//EN
METHOD:PUBLISH
X-PUBLISHED-TTL:P3D
REFRESH-INTERVAL:P3D
CALSCALE:GREGORIAN
BEGIN:VEVENT
DTSTART;VALUE=DATE:20130325
DTEND;VALUE=DATE:20130331
TRANSP:TRANSPARENT
X-MICROSOFT-CDO-ALLDAYEVENT:TRUE
SUMMARY:Golf: The Musical
DESCRIPTION:Golf: The Musical\n\nMarch 25 - 30\, 2013\n\nWith a talented foursome of actors\, GOLF: The Musical is a funny spoof that celebrates the fun\, frustration and elation of this popular sport\, those who play it\, and those who don't.   (This funny spoof on golf will get you ready to enjoy the Heritage tournament!)   Songs in the show you'll laugh at and love include: "Big Bertha\," "Hook and Slice\," Golfing Newscast\," "The Golfer's Psalm\," "My Husband is Playing Around\," and "Presidents and Golf."      In the world of GOLF: The Musical\, "What you don't know about golf won't hurt your enjoyment of the revue\, and what you do know will only enhance it." (TheaterMania)   All Tickets $39\n\nArts Center of Coastal Carolina\, 14 Shelter Cove Lane\, Hilton Head\, SC\n\n$39 all tickets\n\nBox Office: 843-842-ARTS or https://tickets.artshhi.com\n\nwww.artshhi.com
X-ALT-DESC;FMTTYPE=text/html:<strong><span style="font-size: 12pt\;"><span style="font-family: arial\,sans-serif\;">Golf: The Musical</span></span></strong><br />\n<span style="font-size: 12pt\;"><span style="font-family: arial\,sans-serif\;"><strong>March 25 - 30\, 2013</strong><br />\n<span style="color: black\;">With a talented foursome of actors\, </span></span></span><em><span style="color: rgb(11\, 102\, 32)\;">GOLF: The Musical </span></em><span style="color: black\;">is a funny spoof that celebrates the fun\, frustration and elation of this popular sport\, those who play it\, and those who don&rsquo\;t.&nbsp\;&nbsp\; (This funny spoof on golf will get you ready to enjoy the Heritage tournament!)&nbsp\;&nbsp\; </span><span style="color: rgb(11\, 102\, 32)\;">Songs in the show you&#39\;ll laugh at and love include: </span><span style="color: black\;">&quot\;Big Bertha\,&quot\; &quot\;Hook and Slice\,&quot\; Golfing Newscast\,&quot\; &quot\;The Golfer&#39\;s Psalm\,&quot\; &quot\;My Husband is Playing Around\,&quot\; and &quot\;Presidents and Golf.&quot\;&nbsp\; &nbsp\;&nbsp\;&nbsp\; In the world of </span><strong><em><span style="color: rgb(11\, 102\, 32)\;">GOLF: The Musical</span></em><span style="color: rgb(11\, 102\, 32)\;">\,</span></strong><span style="color: black\;"> &ldquo\;What you don&rsquo\;t know about golf won&rsquo\;t hurt your enjoyment of the revue\, and what you do know will only enhance it.&rdquo\; (<em>TheaterMania</em>)&nbsp\;&nbsp\; </span><strong>All Tickets $39</strong><br />\n<span style="font-size: 12pt\;"><span style="font-family: arial\,sans-serif\;">Arts Center of Coastal Carolina\, 14 Shelter Cove Lane\, Hilton Head\, SC</span></span><br />\n<span style="font-size: 12pt\;"><span style="font-family: arial\,sans-serif\;">$39 all tickets</span></span><br />\n<span style="font-size: 12pt\;"><span style="font-family: arial\,sans-serif\;">Box Office: 843-842-ARTS or </span><a href="https://tickets.artshhi.com/"><span style="color: rgb(0\, 0\, 255)\;">https://tickets.artshhi.com</span></a></span><br />\n<span style="font-size: 12pt\;"><span style="font-family: arial\,sans-serif\;"><a href="http://www.artshhi.com/" title="http://www.artshhi.com/"><span style="color: rgb(0\, 0\, 255)\;">www.artshhi.com</span></a></span></span><br />\n
LOCATION:
UID:e.1212.4934
SEQUENCE:3
DTSTAMP:20260422T083847Z
URL:http://business.beaufortchamber.org/events/details/golf-the-musical-03-25-2013-4934
END:VEVENT

END:VCALENDAR
