BEGIN:VCALENDAR
VERSION:2.0
PRODID:-//ChamberMaster//Event Calendar 2.0//EN
METHOD:PUBLISH
X-PUBLISHED-TTL:P3D
REFRESH-INTERVAL:P3D
CALSCALE:GREGORIAN
BEGIN:VEVENT
DTSTART:20121029T213000Z
DTEND:20121030T020000Z
X-MICROSOFT-CDO-ALLDAYEVENT:FALSE
SUMMARY:Goodwill's Nevermore Masquerade
DESCRIPTION:: Dust off your masks and join Goodwill for an evening of haunting entertainment\, culinary delights and cocktails at Goodwill's Nevermore Masquerade. Featuring Charleston Stages\, Nevermore\, as well as a Goodwill Trunk Show and silent auction. Proceeds benefiting Special Olympics and Goodwill's Operation Independence Program.
X-ALT-DESC;FMTTYPE=text/html:<span style="font-size: 11pt"><span style="font-family: calibri\, sans-serif"><strong>:</strong></span></span><span style="font-size: 11pt"><span style="font-family: calibri\, sans-serif">&nbsp\;Dust off your masks and join Goodwill for an evening of haunting entertainment\, culinary delights and cocktails at Goodwill&#39\;s Nevermore Masquerade. Featuring Charleston Stages\, Nevermore\, as well as a Goodwill Trunk Show and silent auction. Proceeds benefiting Special Olympics and Goodwill&#39\;s Operation Independence Program. </span></span>
LOCATION:Dock Street Theatre\, 135 Church Street\, Charleston
UID:e.1212.4630
SEQUENCE:3
DTSTAMP:20260422T152228Z
URL:http://business.beaufortchamber.org/events/details/goodwill-s-nevermore-masquerade-10-29-2012-4630
END:VEVENT

END:VCALENDAR
