BEGIN:VCALENDAR
VERSION:2.0
PRODID:-//ChamberMaster//Event Calendar 2.0//EN
METHOD:PUBLISH
X-PUBLISHED-TTL:P3D
REFRESH-INTERVAL:P3D
CALSCALE:GREGORIAN
BEGIN:VEVENT
DTSTART;VALUE=DATE:20090930
DTEND;VALUE=DATE:20091001
TRANSP:TRANSPARENT
X-MICROSOFT-CDO-ALLDAYEVENT:TRUE
SUMMARY:Grand Opening: Beaufort Lifestyles
DESCRIPTION:The Beaufort Regional Chamber is honored to assist Beaufort Lifestyle magazine with their grand opening and "premier issue" celebration.  This is a new publication in the Beaufort area and they will launch their premier issue that night.  Bistro Patois will provide a variety of appetizers and beverages.  All Chamber members and friends are invited.
X-ALT-DESC;FMTTYPE=text/html:The Beaufort Regional Chamber is honored to assist Beaufort Lifestyle magazine with their grand opening and "premier issue" celebration.  This is a new publication in the Beaufort area and they will launch their premier issue that night.  Bistro Patois will provide a variety of appetizers and beverages.  All Chamber members and friends are invited.
LOCATION:
UID:e.1212.3554
SEQUENCE:3
DTSTAMP:20260424T234934Z
URL:http://business.beaufortchamber.org/events/details/grand-opening-beaufort-lifestyles-09-30-2009-3554
END:VEVENT

END:VCALENDAR
