BEGIN:VCALENDAR
VERSION:2.0
PRODID:-//ChamberMaster//Event Calendar 2.0//EN
METHOD:PUBLISH
X-PUBLISHED-TTL:P3D
REFRESH-INTERVAL:P3D
CALSCALE:GREGORIAN
BEGIN:VEVENT
DTSTART;VALUE=DATE:20090805
DTEND;VALUE=DATE:20090806
TRANSP:TRANSPARENT
X-MICROSOFT-CDO-ALLDAYEVENT:TRUE
SUMMARY:Grand Opening: Bistro Patois
DESCRIPTION:Come out and help us celebrate our newest venture !  Ribbon cutting with the Beaufort Regional Chamber of Commerce to take place at 5:30.  Guest may tour the bistro\, mingle with staff and sample menu items prepared by Chef\, Jim Spratling.  We specialize in comfortable\, approachable food prepared with the elegance of old French fundamental style.  Offering a full wine list and select beers.  We are open Tuesday - Saturday from 4-10.
X-ALT-DESC;FMTTYPE=text/html:Come out and help us celebrate our newest venture !  Ribbon cutting with the Beaufort Regional Chamber of Commerce to take place at 5:30.  Guest may tour the bistro\, mingle with staff and sample menu items prepared by Chef\, Jim Spratling.  We specialize in comfortable\, approachable food prepared with the elegance of old French fundamental style.  Offering a full wine list and select beers.  We are open Tuesday - Saturday from 4-10.
LOCATION:
UID:e.1212.3410
SEQUENCE:3
DTSTAMP:20260425T010650Z
URL:http://business.beaufortchamber.org/events/details/grand-opening-bistro-patois-08-05-2009-3410
END:VEVENT

END:VCALENDAR
