BEGIN:VCALENDAR
VERSION:2.0
PRODID:-//ChamberMaster//Event Calendar 2.0//EN
METHOD:PUBLISH
X-PUBLISHED-TTL:P3D
REFRESH-INTERVAL:P3D
CALSCALE:GREGORIAN
BEGIN:VEVENT
DTSTART;VALUE=DATE:20081202
DTEND;VALUE=DATE:20081203
TRANSP:TRANSPARENT
X-MICROSOFT-CDO-ALLDAYEVENT:TRUE
SUMMARY:Grand Opening: Boys and Girls Club of the Lowcountry
DESCRIPTION:Embarq has donated a new technology center to the Boys & Girls Club of the Lowcountry!  Let's celebrate this exciting occasion on December 2\, 2008 at the Boys & Girls Club on Boundary Street\, Beaufort.
X-ALT-DESC;FMTTYPE=text/html:Embarq has donated a new technology center to the Boys & Girls Club of the Lowcountry!  Let's celebrate this exciting occasion on December 2\, 2008 at the Boys & Girls Club on Boundary Street\, Beaufort.\n
LOCATION:Port Royal
UID:e.1212.2861
SEQUENCE:3
DTSTAMP:20260425T152628Z
URL:http://business.beaufortchamber.org/events/details/grand-opening-boys-and-girls-club-of-the-lowcountry-12-02-2008-2861
END:VEVENT

END:VCALENDAR
