BEGIN:VCALENDAR
VERSION:2.0
PRODID:-//ChamberMaster//Event Calendar 2.0//EN
METHOD:PUBLISH
X-PUBLISHED-TTL:P3D
REFRESH-INTERVAL:P3D
CALSCALE:GREGORIAN
BEGIN:VEVENT
DTSTART:20120709T130000Z
DTEND:20120709T140000Z
X-MICROSOFT-CDO-ALLDAYEVENT:FALSE
SUMMARY:Grand Opening - Buffalo Wild Wings\, 121 Robert Smalls Parkway
DESCRIPTION:
X-ALT-DESC;FMTTYPE=text/html:
LOCATION:
UID:e.1212.4537
SEQUENCE:3
DTSTAMP:20260422T191316Z
URL:http://business.beaufortchamber.org/events/details/grand-opening-buffalo-wild-wings-121-robert-smalls-parkway-07-09-2012-4537
END:VEVENT

END:VCALENDAR
