BEGIN:VCALENDAR
VERSION:2.0
PRODID:-//ChamberMaster//Event Calendar 2.0//EN
METHOD:PUBLISH
X-PUBLISHED-TTL:P3D
REFRESH-INTERVAL:P3D
CALSCALE:GREGORIAN
BEGIN:VEVENT
DTSTART;VALUE=DATE:20090130
DTEND;VALUE=DATE:20090131
TRANSP:TRANSPARENT
X-MICROSOFT-CDO-ALLDAYEVENT:TRUE
SUMMARY:Grand Opening: Comfort Keepers
DESCRIPTION:Come join us for a Ribbon Cutting Celebration !   An independent living facility that is dedicated to providing in-home care that enriches their clients' lives and helps them maintain the highest possible level of living.  They offer companionship. light housecleaning\, transportation to doctor appointments or other commitments and meal prepreparation.
X-ALT-DESC;FMTTYPE=text/html:Come join us for a Ribbon Cutting Celebration !   An independent living facility that is dedicated to providing in-home care that enriches their clients' lives and helps them maintain the highest possible level of living.  They offer companionship. light housecleaning\, transportation to doctor appointments or other commitments and meal prepreparation.
LOCATION:
UID:e.1212.2974
SEQUENCE:3
DTSTAMP:20260425T140438Z
URL:http://business.beaufortchamber.org/events/details/grand-opening-comfort-keepers-01-30-2009-2974
END:VEVENT

END:VCALENDAR
