BEGIN:VCALENDAR
VERSION:2.0
PRODID:-//ChamberMaster//Event Calendar 2.0//EN
METHOD:PUBLISH
X-PUBLISHED-TTL:P3D
REFRESH-INTERVAL:P3D
CALSCALE:GREGORIAN
BEGIN:VEVENT
DTSTART;VALUE=DATE:20090723
DTEND;VALUE=DATE:20090724
TRANSP:TRANSPARENT
X-MICROSOFT-CDO-ALLDAYEVENT:TRUE
SUMMARY:Grand Opening: Distinctive Granite and Marble
DESCRIPTION:Come out and help us celebrate !   We offer the largest stone selection in the Savannah/Carolina Lowcountry region.  Our team personally imports hand-selected stone from around the world and have more than 20\,00 slabs in 300 varieties.  Please stop by\, take a look at our new showroom and enjoy a pizza lunch on us.
X-ALT-DESC;FMTTYPE=text/html:Come out and help us celebrate !   We offer the largest stone selection in the Savannah/Carolina Lowcountry region.  Our team personally imports hand-selected stone from around the world and have more than 20\,00 slabs in 300 varieties.  Please stop by\, take a look at our new showroom and enjoy a pizza lunch on us.
LOCATION:
UID:e.1212.3361
SEQUENCE:3
DTSTAMP:20260425T024908Z
URL:http://business.beaufortchamber.org/events/details/grand-opening-distinctive-granite-and-marble-07-23-2009-3361
END:VEVENT

END:VCALENDAR
