BEGIN:VCALENDAR
VERSION:2.0
PRODID:-//ChamberMaster//Event Calendar 2.0//EN
METHOD:PUBLISH
X-PUBLISHED-TTL:P3D
REFRESH-INTERVAL:P3D
CALSCALE:GREGORIAN
BEGIN:VEVENT
DTSTART;VALUE=DATE:20091015
DTEND;VALUE=DATE:20091016
TRANSP:TRANSPARENT
X-MICROSOFT-CDO-ALLDAYEVENT:TRUE
SUMMARY:Grand Opening: Island Podiatry
DESCRIPTION:Come out and celebrate Dr. Jill Blau and her professional team as they open their new practice.\nThey provide Pediatric/Geriatric/Diabetic medicine and surgery as well as comprehensive foot and ankle care including: wound care\, in-office procedures\, trauma/injuries\, biomechanics\, orthotics\, reconstructive surgery and additional care.\nRibbon cutting  by the Beaufort Regional Chamber Staff will be at 5:30\nCost: Free
X-ALT-DESC;FMTTYPE=text/html:Come out and celebrate Dr. Jill Blau and her professional team as they open their new practice.\nThey provide Pediatric/Geriatric/Diabetic medicine and surgery as well as comprehensive foot and ankle care including: wound care\, in-office procedures\, trauma/injuries\, biomechanics\, orthotics\, reconstructive surgery and additional care.\nRibbon cutting  by the Beaufort Regional Chamber Staff will be at 5:30\nCost: Free
LOCATION:
UID:e.1212.3618
SEQUENCE:3
DTSTAMP:20260424T221724Z
URL:http://business.beaufortchamber.org/events/details/grand-opening-island-podiatry-10-15-2009-3618
END:VEVENT

END:VCALENDAR
