BEGIN:VCALENDAR
VERSION:2.0
PRODID:-//ChamberMaster//Event Calendar 2.0//EN
METHOD:PUBLISH
X-PUBLISHED-TTL:P3D
REFRESH-INTERVAL:P3D
CALSCALE:GREGORIAN
BEGIN:VEVENT
DTSTART;VALUE=DATE:20100225
DTEND;VALUE=DATE:20100226
TRANSP:TRANSPARENT
X-MICROSOFT-CDO-ALLDAYEVENT:TRUE
SUMMARY:Grand Opening: May River Dermatology
DESCRIPTION:Join the Beaufort Regional Chamber as we help celebrate the opening of their practice.\nBoard Certified\, Dr. Trywick\, specializes in the diagnosis and management of skin cancer and other diseases of the skin\, hair and nails.  He enjoys seeing patients of all ages\, including children.  They also offer a variety of cosmetic and aesthetic services.\nCost: Free and open to the public - refreshments provided
X-ALT-DESC;FMTTYPE=text/html:Join the Beaufort Regional Chamber as we help celebrate the opening of their practice.\nBoard Certified\, Dr. Trywick\, specializes in the diagnosis and management of skin cancer and other diseases of the skin\, hair and nails.  He enjoys seeing patients of all ages\, including children.  They also offer a variety of cosmetic and aesthetic services.\nCost: Free and open to the public - refreshments provided
LOCATION:
UID:e.1212.3782
SEQUENCE:3
DTSTAMP:20260424T170810Z
URL:http://business.beaufortchamber.org/events/details/grand-opening-may-river-dermatology-02-25-2010-3782
END:VEVENT

END:VCALENDAR
