BEGIN:VCALENDAR
VERSION:2.0
PRODID:-//ChamberMaster//Event Calendar 2.0//EN
METHOD:PUBLISH
X-PUBLISHED-TTL:P3D
REFRESH-INTERVAL:P3D
CALSCALE:GREGORIAN
BEGIN:VEVENT
DTSTART:20140211T210000Z
DTEND:20140211T230000Z
X-MICROSOFT-CDO-ALLDAYEVENT:FALSE
SUMMARY:Grand Opening/Ribbon Cutting - Boys & Girls Club Thrift Store
DESCRIPTION:Please join us as we celebrate the Grand Opening of The Boys & Girls Club Thrift store at their NEW location with a Ribbon Cutting celebration.\n\n\n\nDonations will be accepted
X-ALT-DESC;FMTTYPE=text/html:Please join us as we celebrate the Grand Opening of The Boys &amp\; Girls Club Thrift store at their NEW location with a Ribbon Cutting celebration.<br />\n<br />\nDonations will be accepted<br />\n<br type="_moz" />\n
LOCATION:Boys & Girls Club Thrift Store 914 Boundary Street\, Beaufort SC
UID:e.1212.5229
SEQUENCE:3
DTSTAMP:20260421T120500Z
URL:http://business.beaufortchamber.org/events/details/grand-opening-ribbon-cutting-boys-girls-club-thrift-store-02-11-2014-5229
END:VEVENT

END:VCALENDAR
