BEGIN:VCALENDAR
VERSION:2.0
PRODID:-//ChamberMaster//Event Calendar 2.0//EN
METHOD:PUBLISH
X-PUBLISHED-TTL:P3D
REFRESH-INTERVAL:P3D
CALSCALE:GREGORIAN
BEGIN:VEVENT
DTSTART:20140218T153000Z
DTEND:20140218T160000Z
X-MICROSOFT-CDO-ALLDAYEVENT:FALSE
SUMMARY:Grand Opening/Ribbon Cutting - Groucho's Deli of Beaufort
DESCRIPTION:Please join us as we celebrate the Grand Opening of Groucho's Deli of Beaufort with a Ribbon Cutting celebration.
X-ALT-DESC;FMTTYPE=text/html:Please join us as we celebrate the Grand Opening of Groucho&#39\;s Deli of Beaufort with a Ribbon Cutting celebration.<br />\n<br type="_moz" />\n
LOCATION:Groucho's Deli of Beaufort 81 Sea Island Parkway Beaufort\, SC 29907
UID:e.1212.5238
SEQUENCE:3
DTSTAMP:20260421T133753Z
URL:http://business.beaufortchamber.org/events/details/grand-opening-ribbon-cutting-groucho-s-deli-of-beaufort-02-18-2014-5238
END:VEVENT

END:VCALENDAR
