BEGIN:VCALENDAR
VERSION:2.0
PRODID:-//ChamberMaster//Event Calendar 2.0//EN
METHOD:PUBLISH
X-PUBLISHED-TTL:P3D
REFRESH-INTERVAL:P3D
CALSCALE:GREGORIAN
BEGIN:VEVENT
DTSTART:20131218T140000Z
DTEND:20131218T150000Z
X-MICROSOFT-CDO-ALLDAYEVENT:FALSE
SUMMARY:Grand Opening/Ribbon Cutting - Haute Diggity Dawg
DESCRIPTION:Please join us as we celebrate the Grand Opening of Haute Diggity Dog\, a Pet Boutique\, on Lady's Island.\n\n\n\nWe all love New Business\, so please come out and show your support to them on their new venture.\n\n\n\nRefreshments will be served.
X-ALT-DESC;FMTTYPE=text/html:Please join us as we celebrate the Grand Opening of Haute Diggity Dog\, a Pet Boutique\, on Lady&#39\;s Island.<br />\n<br />\nWe all love New Business\, so please come out and show your support to them on their new venture.<br />\n<br />\nRefreshments will be served.&nbsp\;&nbsp\;&nbsp\;&nbsp\;&nbsp\;&nbsp\;&nbsp\;&nbsp\;
LOCATION:53-B Sam's Point Road Lady's Island
UID:e.1212.5145
SEQUENCE:3
DTSTAMP:20260421T145948Z
URL:http://business.beaufortchamber.org/events/details/grand-opening-ribbon-cutting-haute-diggity-dawg-12-18-2013-5145
END:VEVENT

END:VCALENDAR
