BEGIN:VCALENDAR
VERSION:2.0
PRODID:-//ChamberMaster//Event Calendar 2.0//EN
METHOD:PUBLISH
X-PUBLISHED-TTL:P3D
REFRESH-INTERVAL:P3D
CALSCALE:GREGORIAN
BEGIN:VEVENT
DTSTART:20131118T213000Z
DTEND:20131118T233000Z
X-MICROSOFT-CDO-ALLDAYEVENT:FALSE
SUMMARY:Grand Opening & Ribbon Cutting - Lady's Island Internal Medicine (BMH)
DESCRIPTION:Grand Opening and Ribbon Cutting ceremony with light refreshments.
X-ALT-DESC;FMTTYPE=text/html:Grand Opening and Ribbon Cutting ceremony with light refreshments.
LOCATION:Lady's Island Internal Medicine 117 Sea Island Parkway
UID:e.1212.5128
SEQUENCE:3
DTSTAMP:20260421T164143Z
URL:http://business.beaufortchamber.org/events/details/grand-opening-ribbon-cutting-lady-s-island-internal-medicine-bmh-11-18-2013-5128
END:VEVENT

END:VCALENDAR
