BEGIN:VCALENDAR
VERSION:2.0
PRODID:-//ChamberMaster//Event Calendar 2.0//EN
METHOD:PUBLISH
X-PUBLISHED-TTL:P3D
REFRESH-INTERVAL:P3D
CALSCALE:GREGORIAN
BEGIN:VEVENT
DTSTART:20131112T210000Z
DTEND:20131112T230000Z
X-MICROSOFT-CDO-ALLDAYEVENT:FALSE
SUMMARY:Grand Opening/Ribbon Cutting - Lady's Island Medical Center
DESCRIPTION:We will celebrate the grand opening and ribbon cutting for the new Lady's Island Medical Center.
X-ALT-DESC;FMTTYPE=text/html:We will celebrate the grand opening and ribbon cutting for the new Lady&#39\;s Island Medical Center.
LOCATION:97 Sea Island Parkway - Suite 203
UID:e.1212.5123
SEQUENCE:3
DTSTAMP:20260421T164257Z
URL:http://business.beaufortchamber.org/events/details/grand-opening-ribbon-cutting-lady-s-island-medical-center-11-12-2013-5123
END:VEVENT

END:VCALENDAR
