BEGIN:VCALENDAR
VERSION:2.0
PRODID:-//ChamberMaster//Event Calendar 2.0//EN
METHOD:PUBLISH
X-PUBLISHED-TTL:P3D
REFRESH-INTERVAL:P3D
CALSCALE:GREGORIAN
BEGIN:VEVENT
DTSTART:20120301T210000Z
DTEND:20120301T220000Z
X-MICROSOFT-CDO-ALLDAYEVENT:FALSE
SUMMARY:Grand Opening/ Ribbon Cutting - Marketplace News
DESCRIPTION:Please join us at Marketplace News for a Grand Opening celebration on Thursday\, March 1st at 4pm.
X-ALT-DESC;FMTTYPE=text/html:<span class="cm_editor_fix"><span style="font-size: 12px">Please join us at Marketplace News for&nbsp\;a Grand&nbsp\;Opening celebration on&nbsp\;Thursday\,&nbsp\;March&nbsp\;1st at 4pm. </span></span>
LOCATION:209 Charles St. in downtown
UID:e.1212.4508
SEQUENCE:3
DTSTAMP:20260423T011517Z
URL:http://business.beaufortchamber.org/events/details/grand-opening-ribbon-cutting-marketplace-news-03-01-2012-4508
END:VEVENT

END:VCALENDAR
