BEGIN:VCALENDAR
VERSION:2.0
PRODID:-//ChamberMaster//Event Calendar 2.0//EN
METHOD:PUBLISH
X-PUBLISHED-TTL:P3D
REFRESH-INTERVAL:P3D
CALSCALE:GREGORIAN
BEGIN:VEVENT
DTSTART:20140218T210000Z
DTEND:20140218T230000Z
X-MICROSOFT-CDO-ALLDAYEVENT:FALSE
SUMMARY:Grand Opening/Ribbon Cutting - The Stillness Gym
DESCRIPTION:Please join us as we celebrate the Grand Opening of The Stillness Gym with a Ribbon Cutting celebration.\n\n\n\nLight refreshments will be served.\n\n\n\nThe Stillness Gym is a "shoe free" zone.
X-ALT-DESC;FMTTYPE=text/html:Please join us as we celebrate the Grand Opening of The Stillness Gym with a Ribbon Cutting celebration.<br />\n<br />\nLight refreshments will be served.<br />\n<br />\nThe Stillness Gym is a &quot\;shoe free&quot\; zone.
LOCATION:1105 Middleton Street\, Beaufort
UID:e.1212.5233
SEQUENCE:3
DTSTAMP:20260421T132636Z
URL:http://business.beaufortchamber.org/events/details/grand-opening-ribbon-cutting-the-stillness-gym-02-18-2014-5233
END:VEVENT

END:VCALENDAR
