BEGIN:VCALENDAR
VERSION:2.0
PRODID:-//ChamberMaster//Event Calendar 2.0//EN
METHOD:PUBLISH
X-PUBLISHED-TTL:P3D
REFRESH-INTERVAL:P3D
CALSCALE:GREGORIAN
BEGIN:VEVENT
DTSTART:20130319T203000Z
DTEND:20130319T213000Z
X-MICROSOFT-CDO-ALLDAYEVENT:FALSE
SUMMARY:Grand Opening - Sohot Mongolian Grill
DESCRIPTION:Help us celebrate the Grand Opening of this new restaurant!
X-ALT-DESC;FMTTYPE=text/html:Help us celebrate the Grand Opening of this new restaurant!
LOCATION:Beaufort Town Center\, 2121 Boundary Street\, Suite 203 (The old Pizza Inn area)
UID:e.1212.4940
SEQUENCE:3
DTSTAMP:20260422T070018Z
URL:http://business.beaufortchamber.org/events/details/grand-opening-sohot-mongolian-grill-03-19-2013-4940
END:VEVENT

END:VCALENDAR
