BEGIN:VCALENDAR
VERSION:2.0
PRODID:-//ChamberMaster//Event Calendar 2.0//EN
METHOD:PUBLISH
X-PUBLISHED-TTL:P3D
REFRESH-INTERVAL:P3D
CALSCALE:GREGORIAN
BEGIN:VEVENT
DTSTART;VALUE=DATE:20081205
DTEND;VALUE=DATE:20081206
TRANSP:TRANSPARENT
X-MICROSOFT-CDO-ALLDAYEVENT:TRUE
SUMMARY:Grand Opening: The Iron Fish Gallery
DESCRIPTION:Join us as we welcome one of our newest businesses to Beaufort.  Chase Allen\, a Daufuskie Island Blacksmith/Metal Artist featured in Coastal & Southern Living Magazines offers hand-forged\, aquatic themed\, iron sculptures with a vintage finsh.  Start your "Night on the Town" over wine and hors d' oeuvres.  Find the perfect handmade holiday gifts.  RSVP by Wednesday\, December 3rd.
X-ALT-DESC;FMTTYPE=text/html:Join us as we welcome one of our newest businesses to Beaufort.  Chase Allen\, a Daufuskie Island Blacksmith/Metal Artist featured in Coastal & Southern Living Magazines offers hand-forged\, aquatic themed\, iron sculptures with a vintage finsh.  Start your "Night on the Town" over wine and hors d' oeuvres.  Find the perfect handmade holiday gifts.  RSVP by Wednesday\, December 3rd.
LOCATION:
UID:e.1212.2810
SEQUENCE:3
DTSTAMP:20260425T141406Z
URL:http://business.beaufortchamber.org/events/details/grand-opening-the-iron-fish-gallery-12-05-2008-2810
END:VEVENT

END:VCALENDAR
