BEGIN:VCALENDAR
VERSION:2.0
PRODID:-//ChamberMaster//Event Calendar 2.0//EN
METHOD:PUBLISH
X-PUBLISHED-TTL:P3D
REFRESH-INTERVAL:P3D
CALSCALE:GREGORIAN
BEGIN:VEVENT
DTSTART;VALUE=DATE:20091118
DTEND;VALUE=DATE:20091119
TRANSP:TRANSPARENT
X-MICROSOFT-CDO-ALLDAYEVENT:TRUE
SUMMARY:Grand Opening: Uptown Grill
DESCRIPTION:Join us for our Grand Opening !\nRibbon Cutting by the Beaufort Regional Chamber of Commerce
X-ALT-DESC;FMTTYPE=text/html:Join us for our Grand Opening !\nRibbon Cutting by the Beaufort Regional Chamber of Commerce
LOCATION:
UID:e.1212.3688
SEQUENCE:3
DTSTAMP:20260424T204913Z
URL:http://business.beaufortchamber.org/events/details/grand-opening-uptown-grill-11-18-2009-3688
END:VEVENT

END:VCALENDAR
