BEGIN:VCALENDAR
VERSION:2.0
PRODID:-//ChamberMaster//Event Calendar 2.0//EN
METHOD:PUBLISH
X-PUBLISHED-TTL:P3D
REFRESH-INTERVAL:P3D
CALSCALE:GREGORIAN
BEGIN:VEVENT
DTSTART:20120208T220000Z
DTEND:20120209T000000Z
X-MICROSOFT-CDO-ALLDAYEVENT:FALSE
SUMMARY:Grand Re-Opening @ Panini's on the Waterfront
DESCRIPTION:Please join us at Panini's on the Waterfront for our Grand Re-opening celebration on Wednesday February 8th at 5pm\, immediately following a Ribbon Cutting ceremony with the Beaufort Regional Chamber of Commerce.\n\nDuring our month-long renovation project\, we've made several changes to the interior of our restaurant that we're very excited to show you.\n\nMark your calendar\, and join us for complimentary hors d'oeuvres\, complimentary beer\, wine\, and other beverages...at the new Panini's on the Waterfront\, 926 Bay Street in Downtown Beaufort.
X-ALT-DESC;FMTTYPE=text/html:<span style="font-size: 12px">Please join us at Panini&#39\;s on the Waterfront for our Grand Re-opening celebration on Wednesday February 8th at 5pm\, immediately following a Ribbon Cutting ceremony with the Beaufort Regional Chamber of Commerce.<br />\nDuring our month-long renovation project\, we&#39\;ve made several changes to the interior of our restaurant that we&#39\;re very excited to show you.<br />\nMark your calendar\, and join us for complimentary hors d&#39\;oeuvres\, complimentary beer\, wine\, and other beverages...at the new Panini&#39\;s on the Waterfront\, 926 Bay Street in Downtown Beaufort.&nbsp\;</span><br />\n
LOCATION:926 Bay Street in Downtown Beaufort.
UID:e.1212.4500
SEQUENCE:3
DTSTAMP:20260423T023923Z
URL:http://business.beaufortchamber.org/events/details/grand-re-opening-panini-s-on-the-waterfront-02-08-2012-4500
END:VEVENT

END:VCALENDAR
