BEGIN:VCALENDAR
VERSION:2.0
PRODID:-//ChamberMaster//Event Calendar 2.0//EN
METHOD:PUBLISH
X-PUBLISHED-TTL:P3D
REFRESH-INTERVAL:P3D
CALSCALE:GREGORIAN
BEGIN:VEVENT
DTSTART;VALUE=DATE:20090924
DTEND;VALUE=DATE:20090925
TRANSP:TRANSPARENT
X-MICROSOFT-CDO-ALLDAYEVENT:TRUE
SUMMARY:Grand Re-Opening - Public Safety Day
DESCRIPTION:Come out and take a tour of our new facility\nCheck out Live demos of fire and intrusion safety devices\nTake home great door prizes\nEnjoy savory food from the grill\nOur specialists will give you an inside look at various organizations that protect and serve the area\nThey will also be demonstrating the Click2Entry codeless system that may soon be mandated in\nall gated communities
X-ALT-DESC;FMTTYPE=text/html:Come out and take a tour of our new facility\nCheck out Live demos of fire and intrusion safety devices\nTake home great door prizes\nEnjoy savory food from the grill\nOur specialists will give you an inside look at various organizations that protect and serve the area\nThey will also be demonstrating the Click2Entry codeless system that may soon be mandated in\nall gated communities
LOCATION:
UID:e.1212.3556
SEQUENCE:3
DTSTAMP:20260425T010748Z
URL:http://business.beaufortchamber.org/events/details/grand-re-opening-public-safety-day-09-24-2009-3556
END:VEVENT

END:VCALENDAR
