BEGIN:VCALENDAR
VERSION:2.0
PRODID:-//ChamberMaster//Event Calendar 2.0//EN
METHOD:PUBLISH
X-PUBLISHED-TTL:P3D
REFRESH-INTERVAL:P3D
CALSCALE:GREGORIAN
BEGIN:VEVENT
DTSTART;VALUE=DATE:20090912
DTEND;VALUE=DATE:20090913
TRANSP:TRANSPARENT
X-MICROSOFT-CDO-ALLDAYEVENT:TRUE
SUMMARY:Green Bus Tour - Organic Yoga
DESCRIPTION:Join Michael Kup\, aka "Moses"\, the founder of I Love Yoga Clothing Company and Green Bus Tour as he displays his Trunk Show and offers three yoga workshops. He has a degree in Thai Massage from Thailand and is author of "Live Hard Because You Can".  His bus runs soley on vegetable oil\, an alternative energy source promoted by the project.  Designed for beginners or advanced featuring guided mediation and chanting.  Cost: $30 per.  Register by Sept 5 and get all 3 workshops for $70.
X-ALT-DESC;FMTTYPE=text/html:Join Michael Kup\, aka "Moses"\, the founder of I Love Yoga Clothing Company and Green Bus Tour as he displays his Trunk Show and offers three yoga workshops. He has a degree in Thai Massage from Thailand and is author of "Live Hard Because You Can".  His bus runs soley on vegetable oil\, an alternative energy source promoted by the project.  Designed for beginners or advanced featuring guided mediation and chanting.  Cost: $30 per.  Register by Sept 5 and get all 3 workshops for $70.
LOCATION:
UID:e.1212.3500
SEQUENCE:3
DTSTAMP:20260424T235200Z
URL:http://business.beaufortchamber.org/events/details/green-bus-tour-organic-yoga-09-12-2009-3500
END:VEVENT

END:VCALENDAR
