BEGIN:VCALENDAR
VERSION:2.0
PRODID:-//ChamberMaster//Event Calendar 2.0//EN
METHOD:PUBLISH
X-PUBLISHED-TTL:P3D
REFRESH-INTERVAL:P3D
CALSCALE:GREGORIAN
BEGIN:VEVENT
DTSTART;VALUE=DATE:20081211
DTEND;VALUE=DATE:20081212
TRANSP:TRANSPARENT
X-MICROSOFT-CDO-ALLDAYEVENT:TRUE
SUMMARY:Growth & Infrastructure Committee Meeting
DESCRIPTION:
X-ALT-DESC;FMTTYPE=text/html:
LOCATION:
UID:e.1212.2509
SEQUENCE:3
DTSTAMP:20260425T141226Z
URL:http://business.beaufortchamber.org/events/details/growth-infrastructure-committee-meeting-12-11-2008-2509
END:VEVENT

END:VCALENDAR
