BEGIN:VCALENDAR
VERSION:2.0
PRODID:-//ChamberMaster//Event Calendar 2.0//EN
METHOD:PUBLISH
X-PUBLISHED-TTL:P3D
REFRESH-INTERVAL:P3D
CALSCALE:GREGORIAN
BEGIN:VEVENT
DTSTART;VALUE=DATE:20091024
DTEND;VALUE=DATE:20091025
TRANSP:TRANSPARENT
X-MICROSOFT-CDO-ALLDAYEVENT:TRUE
SUMMARY:Guild of Beaufort Galleries Fall Art Walk
DESCRIPTION:Enjoy the original work of over 500 artists\, all within walking distance in Historic Beaufort\nCome meet the artist and see our new exhibits\nCost: Free and open to the public
X-ALT-DESC;FMTTYPE=text/html:Enjoy the original work of over 500 artists\, all within walking distance in Historic Beaufort\nCome meet the artist and see our new exhibits\nCost: Free and open to the public
LOCATION:
UID:e.1212.3620
SEQUENCE:3
DTSTAMP:20260424T232919Z
URL:http://business.beaufortchamber.org/events/details/guild-of-beaufort-galleries-fall-art-walk-10-24-2009-3620
END:VEVENT

END:VCALENDAR
