BEGIN:VCALENDAR
VERSION:2.0
PRODID:-//ChamberMaster//Event Calendar 2.0//EN
METHOD:PUBLISH
X-PUBLISHED-TTL:P3D
REFRESH-INTERVAL:P3D
CALSCALE:GREGORIAN
BEGIN:VEVENT
DTSTART;VALUE=DATE:20090328
DTEND;VALUE=DATE:20090329
TRANSP:TRANSPARENT
X-MICROSOFT-CDO-ALLDAYEVENT:TRUE
SUMMARY:Guild of Beaufort Galleries Spring Art Walk
DESCRIPTION:Enjoy the original work of over 500 artists\, all within walking distance in Historic Beaufort!
X-ALT-DESC;FMTTYPE=text/html:Enjoy the original work of over 500 artists\, all within walking distance in Historic Beaufort!
LOCATION:
UID:e.1212.3073
SEQUENCE:3
DTSTAMP:20260425T112456Z
URL:http://business.beaufortchamber.org/events/details/guild-of-beaufort-galleries-spring-art-walk-03-28-2009-3073
END:VEVENT

END:VCALENDAR
