BEGIN:VCALENDAR
VERSION:2.0
PRODID:-//ChamberMaster//Event Calendar 2.0//EN
METHOD:PUBLISH
X-PUBLISHED-TTL:P3D
REFRESH-INTERVAL:P3D
CALSCALE:GREGORIAN
BEGIN:VEVENT
DTSTART:20130224T000000Z
DTEND:20130224T030000Z
X-MICROSOFT-CDO-ALLDAYEVENT:FALSE
SUMMARY:Gullah Caribbean Celebration Fundraiser
DESCRIPTION:Aunt Pearlie Sue and The Gullah Kinfolk\, in partnership with the Community Circle of Hope Coalition\, will sponsor a Gullah Caribbean Celebration to raise money for youth programs in Beaufort's inner city and the Gullah Traveling Theater\, Inc.\n\n	 \n\n	There will be a steel drum band\, Gullah Caribbean buffet\, live stage entertainment and dancing\, dancing and mo' dancing! \n\n	\n\n	Funds raised will be used for youth activities planned by the coalition at the Charles "Lind" Brown Recreation Center\, Green Street\, Beaufort and the newly incorporated\, non-profit Gullah Traveling Theater.\n\n	\n\n	Tickets are now on sale at $50 for regular seating and $65 for VIP seating.  Reservations for the celebration can be made by calling 843-263-5229\, the Beaufort County Black Chamber of Commerce at 843-986-1102 or the Beaufort Regional Chamber at 843-986-5400
X-ALT-DESC;FMTTYPE=text/html:<p style="font-size: 16pt\; margin-top: 0px\; margin-bottom: 0px\;">\n	<span>Aunt Pearlie Sue and The Gullah Kinfolk\, in partnership with the Community Circle of Hope Coalition\, will sponsor a Gullah Caribbean Celebration to raise money for youth programs in Beaufort&#39\;s inner city and the Gullah Traveling Theater\, Inc.</span></p>\n<p style="font-size: 16pt\; margin-top: 0px\; margin-bottom: 0px\;">\n	&nbsp\;</p>\n<p style="font-size: 16pt\; margin-top: 0px\; margin-bottom: 0px\;">\n	<span>There will be a steel drum band\, Gullah Caribbean buffet\, live stage entertainment and dancing\, dancing and mo&#39\; dancing!&nbsp\;<br />\n	<br />\n	Funds raised will be used for youth activities planned by the coalition at the Charles &quot\;Lind&quot\; Brown Recreation Center\, Green Street\, Beaufort and the newly incorporated\, non-profit Gullah Traveling Theater.<br />\n	<br />\n	Tickets are now on sale at $50 for regular seating and $65 for VIP seating.&nbsp\; Reservations for the celebration can be made by calling 843-263-5229\, the Beaufort County Black Chamber of Commerce at 843-986-1102 or the Beaufort Regional Chamber at 843-986-5400</span></p>\n
LOCATION:Quality Inn\, Beaufort
UID:e.1212.4771
SEQUENCE:3
DTSTAMP:20260422T085938Z
URL:http://business.beaufortchamber.org/events/details/gullah-caribbean-celebration-fundraiser-02-23-2013-4771
END:VEVENT

END:VCALENDAR
