BEGIN:VCALENDAR
VERSION:2.0
PRODID:-//ChamberMaster//Event Calendar 2.0//EN
METHOD:PUBLISH
X-PUBLISHED-TTL:P3D
REFRESH-INTERVAL:P3D
CALSCALE:GREGORIAN
BEGIN:VEVENT
DTSTART;VALUE=DATE:20091219
DTEND;VALUE=DATE:20091220
TRANSP:TRANSPARENT
X-MICROSOFT-CDO-ALLDAYEVENT:TRUE
SUMMARY:Gullah Christmas Traditions & Celebrations
DESCRIPTION:Personal stories narrated by St. Helena Island residents.  York Baialey Museum at Penn Center open for tours:  Adults: $5  Seniors: $4  Youth: $2
X-ALT-DESC;FMTTYPE=text/html:Personal stories narrated by St. Helena Island residents.  York Baialey Museum at Penn Center open for tours:  Adults: $5  Seniors: $4  Youth: $2
LOCATION:
UID:e.1212.3024
SEQUENCE:3
DTSTAMP:20260424T193447Z
URL:http://business.beaufortchamber.org/events/details/gullah-christmas-traditions-celebrations-12-19-2009-3024
END:VEVENT

END:VCALENDAR
