BEGIN:VCALENDAR
VERSION:2.0
PRODID:-//ChamberMaster//Event Calendar 2.0//EN
METHOD:PUBLISH
X-PUBLISHED-TTL:P3D
REFRESH-INTERVAL:P3D
CALSCALE:GREGORIAN
BEGIN:VEVENT
DTSTART;VALUE=DATE:20090712
DTEND;VALUE=DATE:20090713
TRANSP:TRANSPARENT
X-MICROSOFT-CDO-ALLDAYEVENT:TRUE
SUMMARY:Gullah Studies Summer Institute
DESCRIPTION:"Teaching African American History: Gullah People of the Sea Islands (1862-1960)"\n\n2-week residential summer institute provides a unique educational experience on Gullah culture with arts-related workshops\, lectures and field trips.  Distinguished university professors\, cultural experts\, and artists.  \n\nRegister for graduate credit or audit any class (visit www.penncenter.com for course descriptions) in partnership with S.C. State University\, the University of NC-Chapel Hill and the S.C. Department of Education.  \n\nCall (843) 838-2474 for more information.
X-ALT-DESC;FMTTYPE=text/html:"Teaching African American History: Gullah People of the Sea Islands (1862-1960)"\n\n2-week residential summer institute provides a unique educational experience on Gullah culture with arts-related workshops\, lectures and field trips.  Distinguished university professors\, cultural experts\, and artists.  \n\nRegister for graduate credit or audit any class (visit www.penncenter.com for course descriptions) in partnership with S.C. State University\, the University of NC-Chapel Hill and the S.C. Department of Education.  \n\nCall (843) 838-2474 for more information.
LOCATION:
UID:e.1212.3018
SEQUENCE:3
DTSTAMP:20260425T024908Z
URL:http://business.beaufortchamber.org/events/details/gullah-studies-summer-institute-07-12-2009-3018
END:VEVENT

END:VCALENDAR
