BEGIN:VCALENDAR
VERSION:2.0
PRODID:-//ChamberMaster//Event Calendar 2.0//EN
METHOD:PUBLISH
X-PUBLISHED-TTL:P3D
REFRESH-INTERVAL:P3D
CALSCALE:GREGORIAN
BEGIN:VEVENT
DTSTART:20111031T204500Z
DTEND:20111101T013000Z
X-MICROSOFT-CDO-ALLDAYEVENT:FALSE
SUMMARY:Habersham Halloween Spooktacular
DESCRIPTION:It's time for the ghosts\, goblins and princesses to go door-to-door collecting candy from Marketplace merchants to feed their sugary appetites.  Their will be a parade near the Firehouse.  Prizes will be awarded for best costume in 4 categories followed by "Spooky Meals" for the petite trick-o-treaters.  There will also be SCARYOKE in the Green Room following trick-o-treat ... so come in your costumes and sing your heart out ... maybe you will win a prize too !
X-ALT-DESC;FMTTYPE=text/html:It&#39\;s time for the ghosts\, goblins and princesses to go door-to-door collecting candy from Marketplace merchants to feed their sugary appetites.&nbsp\; Their will be a parade near the Firehouse.&nbsp\; Prizes will be awarded for best costume in 4 categories followed by &quot\;Spooky Meals&quot\; for the petite trick-o-treaters.&nbsp\; There will also be SCARYOKE in the Green Room following trick-o-treat ... so come in your costumes and sing your heart out ... maybe you will win a prize too ! 
LOCATION:Habersham Market Place 10 B Marketplace Beaufort\, SC 29906
UID:e.1212.4330
SEQUENCE:3
DTSTAMP:20260423T092643Z
URL:http://business.beaufortchamber.org/events/details/habersham-halloween-spooktacular-10-31-2011-4330
END:VEVENT

END:VCALENDAR
