BEGIN:VCALENDAR
VERSION:2.0
PRODID:-//ChamberMaster//Event Calendar 2.0//EN
METHOD:PUBLISH
X-PUBLISHED-TTL:P3D
REFRESH-INTERVAL:P3D
CALSCALE:GREGORIAN
BEGIN:VEVENT
DTSTART:20131026T140000Z
DTEND:20131026T200000Z
X-MICROSOFT-CDO-ALLDAYEVENT:FALSE
SUMMARY:Habersham Harvest Festival
DESCRIPTION:Habersham Fall Festival\n\nThe Habersham Marketplace's 5th Annual Celebration\n\nEnjoy Free Admission\, A Ferris Wheel\, Petting Zoo\, Live Music\, Contests\, Arts & Crafts and Great Foods!
X-ALT-DESC;FMTTYPE=text/html:Habersham Fall Festival<br />\nThe Habersham Marketplace&#39\;s 5th Annual Celebration<br />\nEnjoy Free Admission\, A Ferris Wheel\, Petting Zoo\, Live Music\, Contests\, Arts &amp\; Crafts and Great Foods!
LOCATION:Habersham Marketplace
UID:e.1212.5125
SEQUENCE:3
DTSTAMP:20260421T182631Z
URL:http://business.beaufortchamber.org/events/details/habersham-harvest-festival-10-26-2013-5125
END:VEVENT

END:VCALENDAR
