BEGIN:VCALENDAR
VERSION:2.0
PRODID:-//ChamberMaster//Event Calendar 2.0//EN
METHOD:PUBLISH
X-PUBLISHED-TTL:P3D
REFRESH-INTERVAL:P3D
CALSCALE:GREGORIAN
BEGIN:VEVENT
DTSTART:20121005T200000Z
DTEND:20121006T010000Z
X-MICROSOFT-CDO-ALLDAYEVENT:FALSE
SUMMARY:Habersham Market - Second Annual "Blues and Brews"
DESCRIPTION:The Habersham Marketplace will welcome Charleston\, SC's Holy City Brewing as the featured beer vendor at its second annual "Blues and Brews" night Friday\, October 5. With a regionally expanded farmer's market\, arts\, crafts and specialty food vendors and live blues music by Beaufort's The Blue Dots\, this event is part on a free\, ongoing First Fridays event series held annually in the Marketplace. Sponsored by Butler Chrysler Dodge Jeep of Beaufort\, "Blues and Brews" will also feature a display of several classic cars. \n\n \n\nHoly City Brewing will offer $5 beer tastings\, including seasonal brews such as Biscuits N' Honey\, Smoked Merzan and Pecan Dream Brown Ale\, from 5-7 p.m. The Blue Dots\, with Chris Jones on guitar\, Kelley Adams on Drums and Billy Drysdale on bass\, is known throughout the Lowcountry for performing Blues\, Rock 'n' Roll\, Swing and Surf music\, and will perform from 6-9 p.m. The expanded farmer's market begins at 4 and is ongoing throughout the event.\n\nThe Habersham Marketplace is located at 13 Market St. in the Habersham Community\, located off of Joe Frazier Road in Beaufort. For more information visit www.habershammarketplace.comor www.facebook.com/habershammarketplace.
X-ALT-DESC;FMTTYPE=text/html:<span style="font-size: medium"><span style="font-family: times new roman">The Habersham Marketplace will welcome Charleston\, SC&rsquo\;s Holy City Brewing as the featured beer vendor at its second annual &ldquo\;Blues and Brews&rdquo\; night Friday\, October 5. With a regionally expanded farmer&rsquo\;s market\, arts\, crafts and specialty food vendors and live blues music by Beaufort&rsquo\;s The Blue Dots\, this event is part on a free\, ongoing First Fridays event series held annually in the Marketplace. Sponsored by Butler Chrysler Dodge Jeep of Beaufort\, &ldquo\;Blues and Brews&rdquo\; will also feature a display of several classic cars. </span></span><br />\n&nbsp\;<br />\n<span style="font-size: medium"><span style="font-family: times new roman">Holy City Brewing will offer $5 beer tastings\, including seasonal brews such as <span style="background: white"><span style="color: #222222">Biscuits N&#39\; Honey\, Smoked Merzan and Pecan Dream Brown Ale\, from 5-7 p.m. </span></span>The Blue Dots\, with Chris Jones on guitar\, Kelley Adams on Drums and Billy Drysdale on bass\, is known throughout the Lowcountry for performing Blues\, Rock &rsquo\;n&rsquo\; Roll\, Swing and Surf music\, and will perform from 6-9 p.m. The expanded farmer&rsquo\;s market begins at 4 and is ongoing throughout the event.</span></span><br />\n<span style="color: black"><span style="font-size: medium"><span style="font-family: times new roman">The Habersham Marketplace is located&nbsp\;at 13 Market St. in the Habersham Community\, located off of Joe Frazier Road in Beaufort. For more information visit </span></span></span><a href="http://www.habershammarketplace.com/" target="_blank"><span style="font-size: medium"><span style="font-family: times new roman"><span style="color: #0000ff">www.habershammarketplace.com</span></span></span></a><span style="font-size: medium"><span style="font-family: times new roman">or </span></span><a href="http://www.facebook.com/habershammarketplace"><span style="font-size: medium"><span style="font-family: times new roman"><span style="color: #0000ff">www.facebook.com</span></span></span></a><span style="font-size: medium"><span style="font-family: times new roman"><span style="color: #0000ff">/habershammarketplace</span></span></span><span style="font-size: medium"><span style="font-family: times new roman">.&nbsp\;</span></span><br />\n
LOCATION:
UID:e.1212.4637
SEQUENCE:3
DTSTAMP:20260422T151024Z
URL:http://business.beaufortchamber.org/events/details/habersham-market-second-annual-blues-and-brews-10-05-2012-4637
END:VEVENT

END:VCALENDAR
