BEGIN:VCALENDAR
VERSION:2.0
PRODID:-//ChamberMaster//Event Calendar 2.0//EN
METHOD:PUBLISH
X-PUBLISHED-TTL:P3D
REFRESH-INTERVAL:P3D
CALSCALE:GREGORIAN
BEGIN:VEVENT
DTSTART;VALUE=DATE:20090328
DTEND;VALUE=DATE:20090329
TRANSP:TRANSPARENT
X-MICROSOFT-CDO-ALLDAYEVENT:TRUE
SUMMARY:Hallelujah Singers Concert
DESCRIPTION:Held in the church sanctuary\, this memorable concert will feature the world-renowned Hallelujah Singers.  Founded 20 years ago by Marlena Smalls\, the group's dynamic music celebrates the richness of Gullah history\, language and culture.  Prepaid tickets can be picked up with your tour tickets or at the door beginning at 6pm.  Tickets are $30 per person.
X-ALT-DESC;FMTTYPE=text/html:Held in the church sanctuary\, this memorable concert will feature the world-renowned Hallelujah Singers.  Founded 20 years ago by Marlena Smalls\, the group's dynamic music celebrates the richness of Gullah history\, language and culture.  Prepaid tickets can be picked up with your tour tickets or at the door beginning at 6pm.  Tickets are $30 per person.
LOCATION:
UID:e.1212.3051
SEQUENCE:3
DTSTAMP:20260425T112657Z
URL:http://business.beaufortchamber.org/events/details/hallelujah-singers-concert-03-28-2009-3051
END:VEVENT

END:VCALENDAR
