BEGIN:VCALENDAR
VERSION:2.0
PRODID:-//ChamberMaster//Event Calendar 2.0//EN
METHOD:PUBLISH
X-PUBLISHED-TTL:P3D
REFRESH-INTERVAL:P3D
CALSCALE:GREGORIAN
BEGIN:VEVENT
DTSTART;VALUE=DATE:20091023
DTEND;VALUE=DATE:20091024
TRANSP:TRANSPARENT
X-MICROSOFT-CDO-ALLDAYEVENT:TRUE
SUMMARY:Hallelujah Singers Reunion Concert
DESCRIPTION:Join Marlena Smalls and the Hallelujah Singers as they present this wonderful concert featuring original singers and new vocalists.  More than two dozen voices will join her for two special performances of plantation melodies\, spirituals and blues.  Smalls organized her ensemble in 1990 to preserve the melodies and storytelling unique to the South Carolina Sea Islands.  She travels extensively teaching the Gullah culture.  They have performed for the US Congress\, SC Legislature\, Chigago's Ravinia festivals\, Kennedy Center\, Spoleto Festival and G-8 Summit.  \nOpen seating is limited beginning at 7pm\nCost: Free and open to the public\nContributions will be accepted to benefit the group's ongoing "Fa Da Chillun" national education program
X-ALT-DESC;FMTTYPE=text/html:Join Marlena Smalls and the Hallelujah Singers as they present this wonderful concert featuring original singers and new vocalists.  More than two dozen voices will join her for two special performances of plantation melodies\, spirituals and blues.  Smalls organized her ensemble in 1990 to preserve the melodies and storytelling unique to the South Carolina Sea Islands.  She travels extensively teaching the Gullah culture.  They have performed for the US Congress\, SC Legislature\, Chigago's Ravinia festivals\, Kennedy Center\, Spoleto Festival and G-8 Summit.  \nOpen seating is limited beginning at 7pm\nCost: Free and open to the public\nContributions will be accepted to benefit the group's ongoing "Fa Da Chillun" national education program
LOCATION:
UID:e.1212.3621
SEQUENCE:3
DTSTAMP:20260424T233913Z
URL:http://business.beaufortchamber.org/events/details/hallelujah-singers-reunion-concert-10-23-2009-3621
END:VEVENT

END:VCALENDAR
