BEGIN:VCALENDAR
VERSION:2.0
PRODID:-//ChamberMaster//Event Calendar 2.0//EN
METHOD:PUBLISH
X-PUBLISHED-TTL:P3D
REFRESH-INTERVAL:P3D
CALSCALE:GREGORIAN
BEGIN:VEVENT
DTSTART:20130406T220000Z
DTEND:20130407T030000Z
X-MICROSOFT-CDO-ALLDAYEVENT:FALSE
SUMMARY:Happy Days for HELP
DESCRIPTION:On April 6\, HELP of Beaufort will sponsor Happys Days for HELP to raise funds for Mobile Meals and emergency assistance of food\, clothing and shelter.  The Shed at 809 Paris Avenue in Port Royal\, SC will be rocking to the sounds of Chris Jones and The Blue Dots\, while 94.5\, The Coast\,  broadcast live. Silent and live auctions will be held early in the evening with a night of dancing to follow.  Tickets are $40 per person or $75 for two and include food\, liquor\, wine and beer. So put on your favorite poodle skirt\, roll up that t-shirt sleeve and come on down to The Shed for a great night. Tickets can be purchased at the door or online through PayPal at either www.helpofbeaufort.org or facebook.com/helpbeaufort. Just press the Donate button.
X-ALT-DESC;FMTTYPE=text/html:On April 6\, HELP of Beaufort will sponsor Happys Days for HELP to raise funds for Mobile Meals and emergency assistance of food\, clothing and shelter.&nbsp\; The Shed at 809 Paris Avenue in Port Royal\, SC will be rocking to the sounds of Chris Jones and The Blue Dots\, while 94.5\, The Coast\,&nbsp\; broadcast live. Silent and live auctions will be held early in the evening with a night of dancing to follow.&nbsp\; Tickets are $40 per person or $75 for two and include food\, liquor\, wine and beer. So put on your favorite poodle skirt\, roll up that t-shirt sleeve and come on down to The Shed for a great night. Tickets can be purchased at the door or online through PayPal at either <a href="http://www.helpofbeaufort.org">www.helpofbeaufort.org</a> or facebook.com/helpbeaufort. Just press the Donate button.<br />\n<br />\n<br />\n
LOCATION:The Shed 809 Paris Avenue\, Port Royal\, SC 29935
UID:e.1212.4777
SEQUENCE:3
DTSTAMP:20260422T050605Z
URL:http://business.beaufortchamber.org/events/details/happy-days-for-help-04-06-2013-4777
END:VEVENT

END:VCALENDAR
